BEGIN:VCALENDAR
VERSION:2.0
PRODID:-//St Ives Civic Society - ECPv6.15.18//NONSGML v1.0//EN
CALSCALE:GREGORIAN
METHOD:PUBLISH
X-WR-CALNAME:St Ives Civic Society
X-ORIGINAL-URL:https://www.stivescivic.org.uk
X-WR-CALDESC:Events for St Ives Civic Society
REFRESH-INTERVAL;VALUE=DURATION:PT1H
X-Robots-Tag:noindex
X-PUBLISHED-TTL:PT1H
BEGIN:VTIMEZONE
TZID:UTC
BEGIN:STANDARD
TZOFFSETFROM:+0000
TZOFFSETTO:+0000
TZNAME:UTC
DTSTART:20240101T000000
END:STANDARD
END:VTIMEZONE
BEGIN:VEVENT
DTSTART;TZID=UTC:20250628T100000
DTEND;TZID=UTC:20250628T140000
DTSTAMP:20260420T000633
CREATED:20250320T192537Z
LAST-MODIFIED:20250627T210002Z
UID:1883-1751104800-1751119200@www.stivescivic.org.uk
SUMMARY:Antiques & Collectibles Valuation Day with Hyperion Auction House
DESCRIPTION:
URL:https://www.stivescivic.org.uk/event/antiques-collectibles-valuation-day-with-hyperion-auction-house/
LOCATION:Centrum Room in the Free Church\, Market Hill\, St Ives\, Cambridgeshire\, PE27 5AL\, United Kingdom
ATTACH;FMTTYPE=image/png:https://www.stivescivic.org.uk/wp-content/uploads/2025/03/Auction-Event.png
END:VEVENT
END:VCALENDAR